BEGIN:VCALENDAR
PRODID:-//eluceo/ical//2.0/EN
VERSION:2.0
CALSCALE:GREGORIAN
BEGIN:VEVENT
UID:1a88b60a4949d962d980b135ec2839e5
DTSTAMP:20260424T142606Z
SUMMARY:Plauderlunch
DESCRIPTION:Orador(es): wir alle
URL:https://rotary-augst.ch/es/agenda/show/28689
DTSTART;TZID=Europe/Zurich:20130122T000000
DTEND;TZID=Europe/Zurich:20130123T000000
LOCATION:Landgasthof Adler
CATEGORIES:Rotary
END:VEVENT
BEGIN:VTIMEZONE
TZID:Europe/Zurich
BEGIN:STANDARD
DTSTART:20130122T000000
TZNAME:CET
TZOFFSETTO:+0100
TZOFFSETFROM:+0100
END:STANDARD
END:VTIMEZONE
END:VCALENDAR
