BEGIN:VCALENDAR
PRODID:-//eluceo/ical//2.0/EN
VERSION:2.0
CALSCALE:GREGORIAN
BEGIN:VEVENT
UID:3433967124ae6c1bbb8dbe8764b6ad95
DTSTAMP:20260423T200729Z
SUMMARY:Plauderlunch
DESCRIPTION:Orador(es): wir alle
URL:https://rotary-augst.ch/es/agenda/show/25717
DTSTART;TZID=Europe/Zurich:20120904T120000
DTEND;TZID=Europe/Zurich:20120904T140000
LOCATION:Landgasthof Adler
CATEGORIES:Rotary
END:VEVENT
BEGIN:VTIMEZONE
TZID:Europe/Zurich
BEGIN:DAYLIGHT
DTSTART:20120904T120000
TZNAME:CEST
TZOFFSETTO:+0200
TZOFFSETFROM:+0200
END:DAYLIGHT
END:VTIMEZONE
END:VCALENDAR
