BEGIN:VCALENDAR
PRODID:-//eluceo/ical//2.0/EN
VERSION:2.0
CALSCALE:GREGORIAN
BEGIN:VEVENT
UID:7ba764c76d594701834b20e6e5b03b50
DTSTAMP:20260421T112004Z
SUMMARY:Plauderlunch
DESCRIPTION:Referenten/innen: wir alle
URL:https://rotary-augst.ch/de/agenda/show/26766
DTSTART;TZID=Europe/Zurich:20121030T120000
DTEND;TZID=Europe/Zurich:20121030T140000
LOCATION:Landgasthof Adler
CATEGORIES:Rotary
END:VEVENT
BEGIN:VTIMEZONE
TZID:Europe/Zurich
BEGIN:STANDARD
DTSTART:20121030T120000
TZNAME:CET
TZOFFSETTO:+0100
TZOFFSETFROM:+0100
END:STANDARD
END:VTIMEZONE
END:VCALENDAR
